BEGIN:VCALENDAR
VERSION:2.0
PRODID:-//Central Galaxy Coventry - ECPv6.15.20//NONSGML v1.0//EN
CALSCALE:GREGORIAN
METHOD:PUBLISH
X-ORIGINAL-URL:https://centralgalaxycoventrytc.co.uk
X-WR-CALDESC:Events for Central Galaxy Coventry
REFRESH-INTERVAL;VALUE=DURATION:PT1H
X-Robots-Tag:noindex
X-PUBLISHED-TTL:PT1H
BEGIN:VTIMEZONE
TZID:Europe/London
BEGIN:DAYLIGHT
TZOFFSETFROM:+0000
TZOFFSETTO:+0100
TZNAME:BST
DTSTART:20170326T010000
END:DAYLIGHT
BEGIN:STANDARD
TZOFFSETFROM:+0100
TZOFFSETTO:+0000
TZNAME:GMT
DTSTART:20171029T010000
END:STANDARD
BEGIN:DAYLIGHT
TZOFFSETFROM:+0000
TZOFFSETTO:+0100
TZNAME:BST
DTSTART:20180325T010000
END:DAYLIGHT
BEGIN:STANDARD
TZOFFSETFROM:+0100
TZOFFSETTO:+0000
TZNAME:GMT
DTSTART:20181028T010000
END:STANDARD
BEGIN:DAYLIGHT
TZOFFSETFROM:+0000
TZOFFSETTO:+0100
TZNAME:BST
DTSTART:20190331T010000
END:DAYLIGHT
BEGIN:STANDARD
TZOFFSETFROM:+0100
TZOFFSETTO:+0000
TZNAME:GMT
DTSTART:20191027T010000
END:STANDARD
BEGIN:DAYLIGHT
TZOFFSETFROM:+0000
TZOFFSETTO:+0100
TZNAME:BST
DTSTART:20200329T010000
END:DAYLIGHT
BEGIN:STANDARD
TZOFFSETFROM:+0100
TZOFFSETTO:+0000
TZNAME:GMT
DTSTART:20201025T010000
END:STANDARD
END:VTIMEZONE
BEGIN:VEVENT
DTSTART;VALUE=DATE:20190427
DTEND;VALUE=DATE:20190429
DTSTAMP:20260419T204237
CREATED:20190206T135224Z
LAST-MODIFIED:20190425T075034Z
UID:2328-1556323200-1556495999@centralgalaxycoventrytc.co.uk
SUMMARY:Spring Series 1
DESCRIPTION:Telford International Centre \nTF3 4JH \n  \n  \nTrampoline & Tumbling Spring Series 1 2019 Timetable – Version 1.2 Sent to clubs 17th April 2019 \nTrampoline Tumbling Spring Series 1 2019 – Orientation Timetable V1.2 \n 
URL:https://centralgalaxycoventrytc.co.uk/event/spring-series-1/
LOCATION:Telford International Centre\, Telford\, TF3 4JH\, United Kingdom
CATEGORIES:Competition
END:VEVENT
BEGIN:VEVENT
DTSTART;TZID=Europe/London:20190413T080000
DTEND;TZID=Europe/London:20190414T170000
DTSTAMP:20260419T204237
CREATED:20190205T153610Z
LAST-MODIFIED:20190329T085642Z
UID:2319-1555142400-1555261200@centralgalaxycoventrytc.co.uk
SUMMARY:English Championships Qualifier 1
DESCRIPTION:Fleming Park Leisure Centre\, Eastleigh \nSaturday – Silver\n8.00am Warm up\, please arrive for 7.45am.\nAidan and Libby\n10.35am Warm up\, please arrive an hour before.\nJessica and Aimee\n\nSunday – Gold\n8.30am warm up\, please arrive for 8.15am\nJemma\n11.00am warm up\, please arrive an hour before\nKim and Will\n12.35pm warm up\, please arrive an hour before\nDan\n1.50pm warm up\, please arrive an hour before\nGeorge\n\nJemma – synchro at 3.05pm\n\nTRA & DMT Timetable Q1 (Eastleigh)\nTRA & DMT Judging Panels (SUN) V1 20.3.19\nTRA & DMT Judging Panels (SAT) V1 20.3.19\nCompetition Handbook (TRA\, DMT & TUM) 2019 V4.0 5.3.19\nGold Start List 28.3.19\nSilver Start List 28.3.19\n 
URL:https://centralgalaxycoventrytc.co.uk/event/english-championships-qualifier-1/
LOCATION:Fleming Park Leisure Centre\, Eastleigh\, SO50 9NL\, United Kingdom
CATEGORIES:Competition
END:VEVENT
BEGIN:VEVENT
DTSTART;TZID=Europe/London:20190407T100000
DTEND;TZID=Europe/London:20190407T140000
DTSTAMP:20260419T204237
CREATED:20190328T113311Z
LAST-MODIFIED:20190328T113311Z
UID:2405-1554631200-1554645600@centralgalaxycoventrytc.co.uk
SUMMARY:Activ8 Invitational
DESCRIPTION:Activ8 Trampoline Club \nAction Indoor Sports\, Marsh Hill\, Birmingham B23 7EY
URL:https://centralgalaxycoventrytc.co.uk/event/activ8-invitational/
CATEGORIES:Competition
END:VEVENT
BEGIN:VEVENT
DTSTART;TZID=Europe/London:20181202T080000
DTEND;TZID=Europe/London:20181202T170000
DTSTAMP:20260419T204237
CREATED:20181018T071600Z
LAST-MODIFIED:20181018T082606Z
UID:2204-1543737600-1543770000@centralgalaxycoventrytc.co.uk
SUMMARY:West Midlands School Competition
DESCRIPTION:Details to be confirmed
URL:https://centralgalaxycoventrytc.co.uk/event/west-midlands-school-competition/
LOCATION:Cannock
CATEGORIES:Competition
END:VEVENT
BEGIN:VEVENT
DTSTART;TZID=Europe/London:20181118T080000
DTEND;TZID=Europe/London:20181118T170000
DTSTAMP:20260419T204237
CREATED:20181017T101859Z
LAST-MODIFIED:20181017T102610Z
UID:2167-1542528000-1542560400@centralgalaxycoventrytc.co.uk
SUMMARY:West Midlands Championships
DESCRIPTION:
URL:https://centralgalaxycoventrytc.co.uk/event/west-midlands-championships/
LOCATION:Cannock
CATEGORIES:Competition
END:VEVENT
END:VCALENDAR