BEGIN:VCALENDAR
VERSION:2.0
PRODID:-//Central Galaxy Coventry - ECPv6.15.20//NONSGML v1.0//EN
CALSCALE:GREGORIAN
METHOD:PUBLISH
X-WR-CALNAME:Central Galaxy Coventry
X-ORIGINAL-URL:https://centralgalaxycoventrytc.co.uk
X-WR-CALDESC:Events for Central Galaxy Coventry
REFRESH-INTERVAL;VALUE=DURATION:PT1H
X-Robots-Tag:noindex
X-PUBLISHED-TTL:PT1H
BEGIN:VTIMEZONE
TZID:Europe/London
BEGIN:DAYLIGHT
TZOFFSETFROM:+0000
TZOFFSETTO:+0100
TZNAME:BST
DTSTART:20210328T010000
END:DAYLIGHT
BEGIN:STANDARD
TZOFFSETFROM:+0100
TZOFFSETTO:+0000
TZNAME:GMT
DTSTART:20211031T010000
END:STANDARD
BEGIN:DAYLIGHT
TZOFFSETFROM:+0000
TZOFFSETTO:+0100
TZNAME:BST
DTSTART:20220327T010000
END:DAYLIGHT
BEGIN:STANDARD
TZOFFSETFROM:+0100
TZOFFSETTO:+0000
TZNAME:GMT
DTSTART:20221030T010000
END:STANDARD
BEGIN:DAYLIGHT
TZOFFSETFROM:+0000
TZOFFSETTO:+0100
TZNAME:BST
DTSTART:20230326T010000
END:DAYLIGHT
BEGIN:STANDARD
TZOFFSETFROM:+0100
TZOFFSETTO:+0000
TZNAME:GMT
DTSTART:20231029T010000
END:STANDARD
BEGIN:DAYLIGHT
TZOFFSETFROM:+0000
TZOFFSETTO:+0100
TZNAME:BST
DTSTART:20240331T010000
END:DAYLIGHT
BEGIN:STANDARD
TZOFFSETFROM:+0100
TZOFFSETTO:+0000
TZNAME:GMT
DTSTART:20241027T010000
END:STANDARD
BEGIN:DAYLIGHT
TZOFFSETFROM:+0000
TZOFFSETTO:+0100
TZNAME:BST
DTSTART:20250330T010000
END:DAYLIGHT
BEGIN:STANDARD
TZOFFSETFROM:+0100
TZOFFSETTO:+0000
TZNAME:GMT
DTSTART:20251026T010000
END:STANDARD
BEGIN:DAYLIGHT
TZOFFSETFROM:+0000
TZOFFSETTO:+0100
TZNAME:BST
DTSTART:20260329T010000
END:DAYLIGHT
BEGIN:STANDARD
TZOFFSETFROM:+0100
TZOFFSETTO:+0000
TZNAME:GMT
DTSTART:20261025T010000
END:STANDARD
BEGIN:DAYLIGHT
TZOFFSETFROM:+0000
TZOFFSETTO:+0100
TZNAME:BST
DTSTART:20270328T010000
END:DAYLIGHT
BEGIN:STANDARD
TZOFFSETFROM:+0100
TZOFFSETTO:+0000
TZNAME:GMT
DTSTART:20271031T010000
END:STANDARD
END:VTIMEZONE
BEGIN:VEVENT
DTSTART;VALUE=DATE:20221015
DTEND;VALUE=DATE:20221017
DTSTAMP:20260426T045524
CREATED:20220127T105838Z
LAST-MODIFIED:20220127T105838Z
UID:6154-1665792000-1665964799@centralgalaxycoventrytc.co.uk
SUMMARY:English Championships
DESCRIPTION:For all gymnasts who have qualified from qualification competitions.
URL:https://centralgalaxycoventrytc.co.uk/event/english-championships-3/
LOCATION:EIS Arena\, Coleridge Road\, Sheffield\, S9 5DA\, United Kingdom
CATEGORIES:Competition
END:VEVENT
BEGIN:VEVENT
DTSTART;VALUE=DATE:20221119
DTEND;VALUE=DATE:20221121
DTSTAMP:20260426T045524
CREATED:20220127T111037Z
LAST-MODIFIED:20220127T111037Z
UID:6162-1668816000-1668988799@centralgalaxycoventrytc.co.uk
SUMMARY:Trampoline League Finals
DESCRIPTION:For all gymnasts who have successfully collected enough points to qualify from the first 3 competitions.
URL:https://centralgalaxycoventrytc.co.uk/event/trampoline-league-finals-2/
LOCATION:Lee Valley Velopark\, Abercrombie Road\, London\, E20 3AB\, United Kingdom
CATEGORIES:Competition
END:VEVENT
BEGIN:VEVENT
DTSTART;TZID=Europe/London:20230930T130000
DTEND;TZID=Europe/London:20230930T170000
DTSTAMP:20260426T045524
CREATED:20230928T101245Z
LAST-MODIFIED:20230928T101245Z
UID:6733-1696078800-1696093200@centralgalaxycoventrytc.co.uk
SUMMARY:Club Level Invitational Competition
DESCRIPTION:
URL:https://centralgalaxycoventrytc.co.uk/event/club-level-invitational-competition-2/
LOCATION:The Alan Higgs Centre\, The Alan Higgs Sports Centre\, Allard Way\, Coventry\, CV3 1HW\, United Kingdom
CATEGORIES:Competition
END:VEVENT
BEGIN:VEVENT
DTSTART;VALUE=DATE:20231014
DTEND;VALUE=DATE:20231016
DTSTAMP:20260426T045524
CREATED:20230928T101102Z
LAST-MODIFIED:20230928T101102Z
UID:6730-1697241600-1697414399@centralgalaxycoventrytc.co.uk
SUMMARY:Trampoline League Finals
DESCRIPTION:Invite only – all those who have successfully qualified.
URL:https://centralgalaxycoventrytc.co.uk/event/trampoline-league-finals-3/
LOCATION:EIS Arena\, Coleridge Road\, Sheffield\, S9 5DA\, United Kingdom
CATEGORIES:Competition
END:VEVENT
BEGIN:VEVENT
DTSTART;VALUE=DATE:20231105
DTEND;VALUE=DATE:20231106
DTSTAMP:20260426T045524
CREATED:20230928T101318Z
LAST-MODIFIED:20230928T101318Z
UID:6735-1699142400-1699228799@centralgalaxycoventrytc.co.uk
SUMMARY:West Midlands Championships
DESCRIPTION:
URL:https://centralgalaxycoventrytc.co.uk/event/west-midlands-championships-3/
CATEGORIES:Competition
END:VEVENT
BEGIN:VEVENT
DTSTART;TZID=Europe/London:20231126T130000
DTEND;TZID=Europe/London:20231126T180000
DTSTAMP:20260426T045524
CREATED:20230928T101417Z
LAST-MODIFIED:20230928T101417Z
UID:6737-1701003600-1701021600@centralgalaxycoventrytc.co.uk
SUMMARY:Christmas Competition 2023
DESCRIPTION:Annual Christmas Club competition for all club gymnasts.
URL:https://centralgalaxycoventrytc.co.uk/event/christmas-competition-2023/
LOCATION:The Alan Higgs Centre\, The Alan Higgs Sports Centre\, Allard Way\, Coventry\, CV3 1HW\, United Kingdom
CATEGORIES:Club Event,Competition
END:VEVENT
BEGIN:VEVENT
DTSTART;VALUE=DATE:20250927
DTEND;VALUE=DATE:20250929
DTSTAMP:20260426T045524
CREATED:20250917T110023Z
LAST-MODIFIED:20250917T110740Z
UID:7106-1758931200-1759103999@centralgalaxycoventrytc.co.uk
SUMMARY:League finals 2025
DESCRIPTION:
URL:https://centralgalaxycoventrytc.co.uk/event/league-finals-2025/
LOCATION:Derby Velodrome\, Derby\, United Kingdom
CATEGORIES:Competition
END:VEVENT
BEGIN:VEVENT
DTSTART;TZID=Europe/London:20251004T080000
DTEND;TZID=Europe/London:20251005T170000
DTSTAMP:20260426T045524
CREATED:20250917T110158Z
LAST-MODIFIED:20250917T110641Z
UID:7108-1759564800-1759683600@centralgalaxycoventrytc.co.uk
SUMMARY:British championships 2025
DESCRIPTION:
URL:https://centralgalaxycoventrytc.co.uk/event/british-championships-2025/
LOCATION:Telford International Centre\, Telford\, TF3 4JH\, United Kingdom
CATEGORIES:Competition
ORGANIZER;CN="British Gymnastics":MAILTO:www.british-gymnastics.org
END:VEVENT
BEGIN:VEVENT
DTSTART;TZID=Europe/London:20251116T080000
DTEND;TZID=Europe/London:20251116T170000
DTSTAMP:20260426T045524
CREATED:20250917T110553Z
LAST-MODIFIED:20250917T110708Z
UID:7110-1763280000-1763312400@centralgalaxycoventrytc.co.uk
SUMMARY:West midlands championships
DESCRIPTION:
URL:https://centralgalaxycoventrytc.co.uk/event/west-midlands-championships-4/
LOCATION:Perdiswell Leisure Centre\, Bilford Road\, Worcester\, WR3 8DX
CATEGORIES:Competition
END:VEVENT
BEGIN:VEVENT
DTSTART;TZID=Europe/London:20251206T080000
DTEND;TZID=Europe/London:20251206T170000
DTSTAMP:20260426T045524
CREATED:20250917T111454Z
LAST-MODIFIED:20250917T111454Z
UID:7113-1765008000-1765040400@centralgalaxycoventrytc.co.uk
SUMMARY:Christmas competition 2025
DESCRIPTION:
URL:https://centralgalaxycoventrytc.co.uk/event/christmas-competition-2025/
LOCATION:Unit 22 Bilton Industrial Estate\, unit 22 Humber avenue\, Coventry\, West midlands\, cv3 1jl\, United Kingdom
CATEGORIES:Club Event,Competition
END:VEVENT
BEGIN:VEVENT
DTSTART;TZID=Europe/London:20260321T080000
DTEND;TZID=Europe/London:20260322T170000
DTSTAMP:20260426T045524
CREATED:20250917T134520Z
LAST-MODIFIED:20250919T130049Z
UID:7121-1774080000-1774198800@centralgalaxycoventrytc.co.uk
SUMMARY:League Qualifiers 1 2026
DESCRIPTION:
URL:https://centralgalaxycoventrytc.co.uk/event/league-qualifiers-1-2026/
LOCATION:Northumbria Univesity Sports Cental\, Northumberland Road\, Newcastle upon Tyne\, North East\, NE1 8ST\, United Kingdom
CATEGORIES:Competition
END:VEVENT
END:VCALENDAR