BEGIN:VCALENDAR
VERSION:2.0
PRODID:-//Central Galaxy Coventry - ECPv6.15.20//NONSGML v1.0//EN
CALSCALE:GREGORIAN
METHOD:PUBLISH
X-WR-CALNAME:Central Galaxy Coventry
X-ORIGINAL-URL:https://centralgalaxycoventrytc.co.uk
X-WR-CALDESC:Events for Central Galaxy Coventry
REFRESH-INTERVAL;VALUE=DURATION:PT1H
X-Robots-Tag:noindex
X-PUBLISHED-TTL:PT1H
BEGIN:VTIMEZONE
TZID:Europe/London
BEGIN:DAYLIGHT
TZOFFSETFROM:+0000
TZOFFSETTO:+0100
TZNAME:BST
DTSTART:20180325T010000
END:DAYLIGHT
BEGIN:STANDARD
TZOFFSETFROM:+0100
TZOFFSETTO:+0000
TZNAME:GMT
DTSTART:20181028T010000
END:STANDARD
BEGIN:DAYLIGHT
TZOFFSETFROM:+0000
TZOFFSETTO:+0100
TZNAME:BST
DTSTART:20190331T010000
END:DAYLIGHT
BEGIN:STANDARD
TZOFFSETFROM:+0100
TZOFFSETTO:+0000
TZNAME:GMT
DTSTART:20191027T010000
END:STANDARD
BEGIN:DAYLIGHT
TZOFFSETFROM:+0000
TZOFFSETTO:+0100
TZNAME:BST
DTSTART:20200329T010000
END:DAYLIGHT
BEGIN:STANDARD
TZOFFSETFROM:+0100
TZOFFSETTO:+0000
TZNAME:GMT
DTSTART:20201025T010000
END:STANDARD
BEGIN:DAYLIGHT
TZOFFSETFROM:+0000
TZOFFSETTO:+0100
TZNAME:BST
DTSTART:20210328T010000
END:DAYLIGHT
BEGIN:STANDARD
TZOFFSETFROM:+0100
TZOFFSETTO:+0000
TZNAME:GMT
DTSTART:20211031T010000
END:STANDARD
BEGIN:DAYLIGHT
TZOFFSETFROM:+0000
TZOFFSETTO:+0100
TZNAME:BST
DTSTART:20220327T010000
END:DAYLIGHT
BEGIN:STANDARD
TZOFFSETFROM:+0100
TZOFFSETTO:+0000
TZNAME:GMT
DTSTART:20221030T010000
END:STANDARD
BEGIN:DAYLIGHT
TZOFFSETFROM:+0000
TZOFFSETTO:+0100
TZNAME:BST
DTSTART:20230326T010000
END:DAYLIGHT
BEGIN:STANDARD
TZOFFSETFROM:+0100
TZOFFSETTO:+0000
TZNAME:GMT
DTSTART:20231029T010000
END:STANDARD
END:VTIMEZONE
BEGIN:VEVENT
DTSTART;VALUE=DATE:20221015
DTEND;VALUE=DATE:20221017
DTSTAMP:20260421T093111
CREATED:20220127T105838Z
LAST-MODIFIED:20220127T105838Z
UID:6154-1665792000-1665964799@centralgalaxycoventrytc.co.uk
SUMMARY:English Championships
DESCRIPTION:For all gymnasts who have qualified from qualification competitions.
URL:https://centralgalaxycoventrytc.co.uk/event/english-championships-3/
LOCATION:EIS Arena\, Coleridge Road\, Sheffield\, S9 5DA\, United Kingdom
CATEGORIES:Competition
END:VEVENT
BEGIN:VEVENT
DTSTART;VALUE=DATE:20221001
DTEND;VALUE=DATE:20221003
DTSTAMP:20260421T093111
CREATED:20220127T104750Z
LAST-MODIFIED:20220127T104750Z
UID:6148-1664582400-1664755199@centralgalaxycoventrytc.co.uk
SUMMARY:British Championships
DESCRIPTION:All gymnasts who have qualified from National Age Group Final to compete.
URL:https://centralgalaxycoventrytc.co.uk/event/british-championships/
LOCATION:Arena Birmingham\, Birmingham\, B1 2AA\, United Kingdom
CATEGORIES:Competition
ORGANIZER;CN="British Gymnastics":MAILTO:www.british-gymnastics.org
END:VEVENT
BEGIN:VEVENT
DTSTART;VALUE=DATE:20220924
DTEND;VALUE=DATE:20220926
DTSTAMP:20260421T093111
CREATED:20220127T110755Z
LAST-MODIFIED:20220127T110755Z
UID:6160-1663977600-1664150399@centralgalaxycoventrytc.co.uk
SUMMARY:Trampoline League Comp 3
DESCRIPTION:
URL:https://centralgalaxycoventrytc.co.uk/event/trampoline-league-comp-3/
LOCATION:Temple Park Leisure Centre\, John Reid Road\, South Shields\, NE34 8QN
CATEGORIES:Competition
END:VEVENT
BEGIN:VEVENT
DTSTART;VALUE=DATE:20220716
DTEND;VALUE=DATE:20220718
DTSTAMP:20260421T093111
CREATED:20220127T105552Z
LAST-MODIFIED:20220127T105552Z
UID:6152-1657929600-1658102399@centralgalaxycoventrytc.co.uk
SUMMARY:English Q2
DESCRIPTION:
URL:https://centralgalaxycoventrytc.co.uk/event/english-q2/
LOCATION:Telford International Centre\, Telford\, TF3 4JH\, United Kingdom
CATEGORIES:Competition
END:VEVENT
BEGIN:VEVENT
DTSTART;VALUE=DATE:20220625
DTEND;VALUE=DATE:20220627
DTSTAMP:20260421T093111
CREATED:20220127T104647Z
LAST-MODIFIED:20220127T104647Z
UID:6146-1656115200-1656287999@centralgalaxycoventrytc.co.uk
SUMMARY:National Age Group Final
DESCRIPTION:All gymnasts who have qualified from Spring Cup events\, this will be confirmed following the Spring Cup events.
URL:https://centralgalaxycoventrytc.co.uk/event/national-age-group-final/
LOCATION:Arena Birmingham\, Birmingham\, B1 2AA\, United Kingdom
CATEGORIES:Competition
ORGANIZER;CN="British Gymnastics":MAILTO:www.british-gymnastics.org
END:VEVENT
BEGIN:VEVENT
DTSTART;VALUE=DATE:20220528
DTEND;VALUE=DATE:20220530
DTSTAMP:20260421T093111
CREATED:20220127T110719Z
LAST-MODIFIED:20220127T110719Z
UID:6158-1653696000-1653868799@centralgalaxycoventrytc.co.uk
SUMMARY:Trampoline League Comp 2
DESCRIPTION:
URL:https://centralgalaxycoventrytc.co.uk/event/trampoline-league-comp-2/
LOCATION:N.I.A.C\, Cardiff Met University\, Cyncoed Road\, Cardiff\, CF23 6XD\, United Kingdom
CATEGORIES:Competition
END:VEVENT
BEGIN:VEVENT
DTSTART;VALUE=DATE:20220521
DTEND;VALUE=DATE:20220523
DTSTAMP:20260421T093111
CREATED:20220127T104544Z
LAST-MODIFIED:20220127T104544Z
UID:6144-1653091200-1653263999@centralgalaxycoventrytc.co.uk
SUMMARY:Spring Cup 2
DESCRIPTION:FIG Level Gymnasts Only
URL:https://centralgalaxycoventrytc.co.uk/event/spring-cup-2/
LOCATION:Telford International Centre\, Telford\, TF3 4JH\, United Kingdom
CATEGORIES:Competition
ORGANIZER;CN="British Gymnastics":MAILTO:www.british-gymnastics.org
END:VEVENT
BEGIN:VEVENT
DTSTART;VALUE=DATE:20220423
DTEND;VALUE=DATE:20220425
DTSTAMP:20260421T093111
CREATED:20220127T105520Z
LAST-MODIFIED:20220127T105520Z
UID:6150-1650672000-1650844799@centralgalaxycoventrytc.co.uk
SUMMARY:English Q1
DESCRIPTION:
URL:https://centralgalaxycoventrytc.co.uk/event/english-q1/
LOCATION:Telford International Centre\, Telford\, TF3 4JH\, United Kingdom
CATEGORIES:Competition
END:VEVENT
BEGIN:VEVENT
DTSTART;VALUE=DATE:20220409
DTEND;VALUE=DATE:20220411
DTSTAMP:20260421T093111
CREATED:20220127T104500Z
LAST-MODIFIED:20220127T104500Z
UID:6142-1649462400-1649635199@centralgalaxycoventrytc.co.uk
SUMMARY:Spring Cup 1
DESCRIPTION:FIG Level Gymnasts Only
URL:https://centralgalaxycoventrytc.co.uk/event/spring-cup-1/
LOCATION:Telford International Centre\, Telford\, TF3 4JH\, United Kingdom
CATEGORIES:Competition
ORGANIZER;CN="British Gymnastics":MAILTO:www.british-gymnastics.org
END:VEVENT
BEGIN:VEVENT
DTSTART;VALUE=DATE:20220402
DTEND;VALUE=DATE:20220404
DTSTAMP:20260421T093111
CREATED:20220127T110210Z
LAST-MODIFIED:20220127T110210Z
UID:6156-1648857600-1649030399@centralgalaxycoventrytc.co.uk
SUMMARY:Trampoline League Comp 1
DESCRIPTION:
URL:https://centralgalaxycoventrytc.co.uk/event/trampoline-league-comp-1/
LOCATION:The Triangle Leisure Centre\, Triangle Way\, Burgess Hill\, RH15 8WA
CATEGORIES:Competition
END:VEVENT
BEGIN:VEVENT
DTSTART;VALUE=DATE:20220320
DTEND;VALUE=DATE:20220321
DTSTAMP:20260421T093111
CREATED:20220127T104313Z
LAST-MODIFIED:20220127T104313Z
UID:6138-1647734400-1647820799@centralgalaxycoventrytc.co.uk
SUMMARY:Regional Comp 2
DESCRIPTION:
URL:https://centralgalaxycoventrytc.co.uk/event/regional-comp-2/
LOCATION:Perdiswell Leisure Centre\, Bilford Road\, Worcester\, WR3 8DX
CATEGORIES:Competition
END:VEVENT
BEGIN:VEVENT
DTSTART;TZID=Europe/London:20220212T130000
DTEND;TZID=Europe/London:20220212T170000
DTSTAMP:20260421T093111
CREATED:20220127T104351Z
LAST-MODIFIED:20220127T104357Z
UID:6140-1644670800-1644685200@centralgalaxycoventrytc.co.uk
SUMMARY:Club Level Invitational Competition
DESCRIPTION:
URL:https://centralgalaxycoventrytc.co.uk/event/club-level-invitational-competition/
LOCATION:The Alan Higgs Centre\, The Alan Higgs Sports Centre\, Allard Way\, Coventry\, CV3 1HW\, United Kingdom
CATEGORIES:Competition
END:VEVENT
BEGIN:VEVENT
DTSTART;VALUE=DATE:20220130
DTEND;VALUE=DATE:20220131
DTSTAMP:20260421T093111
CREATED:20220127T104227Z
LAST-MODIFIED:20220127T104227Z
UID:6134-1643500800-1643587199@centralgalaxycoventrytc.co.uk
SUMMARY:Regional Competition 1
DESCRIPTION:For Stacey
URL:https://centralgalaxycoventrytc.co.uk/event/regional-competition-1/
LOCATION:Perdiswell Leisure Centre\, Bilford Road\, Worcester\, WR3 8DX
CATEGORIES:Competition
END:VEVENT
BEGIN:VEVENT
DTSTART;TZID=Europe/London:20211127T130000
DTEND;TZID=Europe/London:20211127T170000
DTSTAMP:20260421T093111
CREATED:20211005T095706Z
LAST-MODIFIED:20211005T095706Z
UID:5991-1638018000-1638032400@centralgalaxycoventrytc.co.uk
SUMMARY:Christmas Club Competition
DESCRIPTION:All Club members welcome to take part.
URL:https://centralgalaxycoventrytc.co.uk/event/christmas-club-competition-2/
LOCATION:The Alan Higgs Centre\, The Alan Higgs Sports Centre\, Allard Way\, Coventry\, CV3 1HW\, United Kingdom
CATEGORIES:Competition
END:VEVENT
BEGIN:VEVENT
DTSTART;VALUE=DATE:20211113
DTEND;VALUE=DATE:20211115
DTSTAMP:20260421T093111
CREATED:20211005T100121Z
LAST-MODIFIED:20211005T100121Z
UID:5995-1636761600-1636934399@centralgalaxycoventrytc.co.uk
SUMMARY:Trampoline League Bounce Back Competition
DESCRIPTION:National Competitors
URL:https://centralgalaxycoventrytc.co.uk/event/trampoline-league-bounce-back-competition/
LOCATION:N.I.A.C\, Cardiff Met University\, Cyncoed Road\, Cardiff\, CF23 6XD\, United Kingdom
CATEGORIES:Competition
END:VEVENT
BEGIN:VEVENT
DTSTART;VALUE=DATE:20201017
DTEND;VALUE=DATE:20201019
DTSTAMP:20260421T093111
CREATED:20190829T090226Z
LAST-MODIFIED:20190829T090226Z
UID:2685-1602892800-1603065599@centralgalaxycoventrytc.co.uk
SUMMARY:British Team and Club Championships 2020
DESCRIPTION:Birmingham \nSaturday 17th October and Sunday 18th October
URL:https://centralgalaxycoventrytc.co.uk/event/british-team-and-club-championships-2020/
LOCATION:Arena Birmingham\, Birmingham\, B1 2AA\, United Kingdom
CATEGORIES:Competition
ORGANIZER;CN="British Gymnastics":MAILTO:www.british-gymnastics.org
END:VEVENT
BEGIN:VEVENT
DTSTART;VALUE=DATE:20200919
DTEND;VALUE=DATE:20200921
DTSTAMP:20260421T093111
CREATED:20191016T131625Z
LAST-MODIFIED:20191016T131625Z
UID:2727-1600473600-1600646399@centralgalaxycoventrytc.co.uk
SUMMARY:Trampoline League 3
DESCRIPTION:Trampoline League Competition 3 \nSouth Shields
URL:https://centralgalaxycoventrytc.co.uk/event/trampoline-league-3/
LOCATION:Temple Park Leisure Centre\, John Reid Road\, South Shields\, NE34 8QN
CATEGORIES:Competition
END:VEVENT
BEGIN:VEVENT
DTSTART;VALUE=DATE:20200912
DTEND;VALUE=DATE:20200914
DTSTAMP:20260421T093111
CREATED:20190829T085757Z
LAST-MODIFIED:20190829T085757Z
UID:2681-1599868800-1600041599@centralgalaxycoventrytc.co.uk
SUMMARY:English Championships
DESCRIPTION:Sheffield \nSaturday 12th and Sunday 13th September
URL:https://centralgalaxycoventrytc.co.uk/event/english-championships-2/
LOCATION:EIS Arena\, Coleridge Road\, Sheffield\, S9 5DA\, United Kingdom
CATEGORIES:Competition
END:VEVENT
BEGIN:VEVENT
DTSTART;VALUE=DATE:20200704
DTEND;VALUE=DATE:20200706
DTSTAMP:20260421T093111
CREATED:20190829T085638Z
LAST-MODIFIED:20190829T085638Z
UID:2679-1593820800-1593993599@centralgalaxycoventrytc.co.uk
SUMMARY:British Championships 2020
DESCRIPTION:Birmingham \nSaturday 4th and Sunday 5th July
URL:https://centralgalaxycoventrytc.co.uk/event/british-championships-2020/
LOCATION:Arena Birmingham\, Birmingham\, B1 2AA\, United Kingdom
CATEGORIES:Competition
ORGANIZER;CN="British Gymnastics":MAILTO:www.british-gymnastics.org
END:VEVENT
BEGIN:VEVENT
DTSTART;VALUE=DATE:20200620
DTEND;VALUE=DATE:20200622
DTSTAMP:20260421T093111
CREATED:20190829T085022Z
LAST-MODIFIED:20190829T085022Z
UID:2677-1592611200-1592783999@centralgalaxycoventrytc.co.uk
SUMMARY:English Qualifier 2
DESCRIPTION:Telford \nSaturday 20th and Sunday 21st June
URL:https://centralgalaxycoventrytc.co.uk/event/english-qualifier-2/
LOCATION:Telford International Centre\, Telford\, TF3 4JH\, United Kingdom
CATEGORIES:Competition
END:VEVENT
BEGIN:VEVENT
DTSTART;VALUE=DATE:20200606
DTEND;VALUE=DATE:20200608
DTSTAMP:20260421T093111
CREATED:20190829T090025Z
LAST-MODIFIED:20190829T090025Z
UID:2683-1591401600-1591574399@centralgalaxycoventrytc.co.uk
SUMMARY:Regional Team Finals
DESCRIPTION:Birmingham \nSaturday 6th and Sunday 7th June
URL:https://centralgalaxycoventrytc.co.uk/event/regional-team-finals/
LOCATION:Arena Birmingham\, Birmingham\, B1 2AA\, United Kingdom
CATEGORIES:Competition
ORGANIZER;CN="British Gymnastics":MAILTO:www.british-gymnastics.org
END:VEVENT
BEGIN:VEVENT
DTSTART;VALUE=DATE:20200530
DTEND;VALUE=DATE:20200601
DTSTAMP:20260421T093111
CREATED:20191016T131406Z
LAST-MODIFIED:20191016T131406Z
UID:2725-1590796800-1590969599@centralgalaxycoventrytc.co.uk
SUMMARY:Trampoline League 2
DESCRIPTION:Trampoline League Competition 2 \nCardiff
URL:https://centralgalaxycoventrytc.co.uk/event/trampoline-league-2-2/
LOCATION:N.I.A.C\, Cardiff Met University\, Cyncoed Road\, Cardiff\, CF23 6XD\, United Kingdom
CATEGORIES:Competition
END:VEVENT
BEGIN:VEVENT
DTSTART;VALUE=DATE:20200516
DTEND;VALUE=DATE:20200518
DTSTAMP:20260421T093111
CREATED:20190829T084731Z
LAST-MODIFIED:20190829T084731Z
UID:2672-1589587200-1589759999@centralgalaxycoventrytc.co.uk
SUMMARY:Spring Series 2
DESCRIPTION:British Gymnastics – Spring Series 2 \nTelford \nSaturday 16th and Sunday 17th May
URL:https://centralgalaxycoventrytc.co.uk/event/spring-series-2-2/
LOCATION:Telford International Centre\, Telford\, TF3 4JH\, United Kingdom
CATEGORIES:Competition
ORGANIZER;CN="British Gymnastics":MAILTO:www.british-gymnastics.org
END:VEVENT
BEGIN:VEVENT
DTSTART;VALUE=DATE:20200418
DTEND;VALUE=DATE:20200420
DTSTAMP:20260421T093111
CREATED:20190829T084921Z
LAST-MODIFIED:20200206T123521Z
UID:2674-1587168000-1587340799@centralgalaxycoventrytc.co.uk
SUMMARY:English Qualifier 1
DESCRIPTION:Gillingham \nSaturday 18th and Sunday 19th April
URL:https://centralgalaxycoventrytc.co.uk/event/english-qualifier-1/
LOCATION:Black Lion\, Medway Park\, Gillingham\, Gillingham\, United Kingdom
CATEGORIES:Competition
END:VEVENT
BEGIN:VEVENT
DTSTART;VALUE=DATE:20200404
DTEND;VALUE=DATE:20200406
DTSTAMP:20260421T093111
CREATED:20191016T131254Z
LAST-MODIFIED:20191016T131254Z
UID:2722-1585958400-1586131199@centralgalaxycoventrytc.co.uk
SUMMARY:Trampoline League 1
DESCRIPTION:Trampoline League – Competition 1 \nBurgess Hill
URL:https://centralgalaxycoventrytc.co.uk/event/trampoline-league-1/
LOCATION:The Triangle Leisure Centre\, Triangle Way\, Burgess Hill\, RH15 8WA
CATEGORIES:Competition
END:VEVENT
BEGIN:VEVENT
DTSTART;VALUE=DATE:20200321
DTEND;VALUE=DATE:20200323
DTSTAMP:20260421T093111
CREATED:20190829T084559Z
LAST-MODIFIED:20190829T084559Z
UID:2670-1584748800-1584921599@centralgalaxycoventrytc.co.uk
SUMMARY:Spring Series 1
DESCRIPTION:British Gymnastics – Spring Series 1 \nTelford \nSaturday 21st and Sunday 22nd March
URL:https://centralgalaxycoventrytc.co.uk/event/spring-series-1-2/
LOCATION:Telford International Centre\, Telford\, TF3 4JH\, United Kingdom
CATEGORIES:Competition
ORGANIZER;CN="British Gymnastics":MAILTO:www.british-gymnastics.org
END:VEVENT
BEGIN:VEVENT
DTSTART;VALUE=DATE:20200308
DTEND;VALUE=DATE:20200309
DTSTAMP:20260421T093111
CREATED:20190924T123146Z
LAST-MODIFIED:20190924T123146Z
UID:2719-1583625600-1583711999@centralgalaxycoventrytc.co.uk
SUMMARY:Regional NDP Qualifier
DESCRIPTION:
URL:https://centralgalaxycoventrytc.co.uk/event/regional-ndp-qualifier/
CATEGORIES:Competition
END:VEVENT
BEGIN:VEVENT
DTSTART;VALUE=DATE:20200119
DTEND;VALUE=DATE:20200120
DTSTAMP:20260421T093111
CREATED:20190924T122957Z
LAST-MODIFIED:20190924T122957Z
UID:2717-1579392000-1579478399@centralgalaxycoventrytc.co.uk
SUMMARY:Regional NDP
DESCRIPTION:
URL:https://centralgalaxycoventrytc.co.uk/event/regional-ndp-3/
CATEGORIES:Competition
END:VEVENT
BEGIN:VEVENT
DTSTART;VALUE=DATE:20191208
DTEND;VALUE=DATE:20191209
DTSTAMP:20260421T093111
CREATED:20190711T123533Z
LAST-MODIFIED:20190711T123533Z
UID:2602-1575763200-1575849599@centralgalaxycoventrytc.co.uk
SUMMARY:Regional NDP
DESCRIPTION:Regionals NDP’s \nTRA and DMT 1-6
URL:https://centralgalaxycoventrytc.co.uk/event/regional-ndp-2/
CATEGORIES:Competition
END:VEVENT
BEGIN:VEVENT
DTSTART;TZID=Europe/London:20191207T130000
DTEND;TZID=Europe/London:20191207T180000
DTSTAMP:20260421T093111
CREATED:20190711T123446Z
LAST-MODIFIED:20190711T123446Z
UID:2600-1575723600-1575741600@centralgalaxycoventrytc.co.uk
SUMMARY:Christmas Competition
DESCRIPTION:All members to take part to try to be crowned team champions.
URL:https://centralgalaxycoventrytc.co.uk/event/christmas-competition/
LOCATION:The Alan Higgs Centre\, The Alan Higgs Sports Centre\, Allard Way\, Coventry\, CV3 1HW\, United Kingdom
CATEGORIES:Club Event,Competition
END:VEVENT
END:VCALENDAR